BEGIN:VCALENDAR
VERSION:2.0
PRODID:-//Squarespace Inc/Squarespace 6//v6//EN
BEGIN:VEVENT
UID:58e4e3f2579fb303393b8e8b@squarespace.com
DTSTAMP:20170405T123909Z
DTSTART:20170411T133000Z
DTEND:20170412T173000Z
SUMMARY:Meet\, Greet\, Learn and Eat with Mark Chisholm 
END:VEVENT
END:VCALENDAR
